Workbook

Sheet Instructions
D2: Double click on image to see page two
M31: Please note format of deliverables. Thank you!

Sheet Raw Data
A1: Sales (Y) | B1: Calls (X1) | C1: Time (X2) | D1: Years (X3) | E1: Type
A2: 41 | B2: 125 | C2: 12 | D2: 0 | E2: NONE
A3: 34 | B3: 125 | C3: 19.3 | D3: 3 | E3: GROUP
A4: 38 | B4: 127 | C4: 12.2 | D4: 3 | E4: NONE
A5: 39 | B5: 127 | C5: 15.5 | D5: 1 | E5: NONE
A6: 37 | B6: 127 | C6: 15.6 | D6: 1 | E6: GROUP
A7: 39 | B7: 127 | C7: 20.6 | D7: 1 | E7: GROUP
A8: 34 | B8: 127 | C8: 18.5 | D8: 4 | E8: NONE
A9: 40 | B9: 127 | C9: 15.2 | D9: 3 | E9: GROUP
A10: 41 | B10: 130 | C10: 19.8 | D10: 1 | E10: NONE
A11: 44 | B11: 133 | C11: 16.1 | D11: 1 | E11: NONE
A12: 40 | B12: 135 | C12: 13.3 | D12: 3 | E12: ONLINE
A13: 44 | B13: 136 | C13: 18.1 | D13: 2 | E13: ONLINE
... A101: 36 | B101: 204 | C101: 12.1 | D101: 1 | E101: ONLINE

Sheet Simple Linear Regression
A1: Simple Linear Regression
A2: Copy or re-type x and y variables into correct columns
C3: Independent (x) | D3: Dependent (y)
B4: 1 | C4: 125 | D4: 41 | F4: Slope (β1) | G4: =SLOPE(D4:D128,C4:C128) -> 0.12779521
B5: 2 | C5: 125 | D5: 34 | F5: y-Intercept (β0) | G5: =INTERCEPT(D4:D128,C4:C128) -> 23.140594
B6: 3 | C6: 127 | D6: 38 | F6: Correlation Coefficient (r) | G6: =CORREL(D4:D128,C4:C128) -> 0.33091912
B7: 4 | C7: 127 | D7: 39 | F7: Coefficient of Determination (r2) | G7: =RSQ(D4:D128,C4:C128) -> 0.10950746
B8: 5 | C8: 127 | D8: 37 | F8: Standard Error | G8: =STEYX(D4:D128,C4:C128) -> 7.0561051
B9: 6 | C9: 127 | D9: 39
B10: 7 | C10: 127 | D10: 34
B11: 8 | C11: 127 | D11: 40
B12: 9 | C12: 130 | D12: 41 | F12: Test of Slope of Linear Regression
B13: 10 | C13: 133 | D13: 44 | F13: n | G13: =COUNT(C4:C128) -> 100
B14: 11 | C14: 135 | D14: 40 | F14: Correlation Coefficient (r) | G14: =CORREL(D4:D128,C4:C128) -> 0.33091912
B15: 12 | C15: 136 | D15: 44 | F15: Standard Error of x, sx | G15: =STDEV(C4:C128) -> 19.264273
B16: 13 | C16: 137 | D16: 41 | F16: Standard Error of y, sy | G16: =STDEV(D4:D128) -> 7.4395272
B17: 14 | C17: 137 | D17: 43 | F17: Slope (β1) | G17: =SLOPE(D4:D128,C4:C128) -> 0.12779521
B18: 15 | C18: 138 | D18: 41 | F18: Standard Error (standard deviation) | G18: =STEYX(D4:D128,C4:C128) -> 7.0561051
B19: 16 | C19: 139 | D19: 38 | F19: Standard Error of the slope, sb | G19: =G18/(G15*SQRT(G13-1)) -> 0.036812458
B20: 17 | C20: 139 | D20: 40 | F20: Test Statistic, t | G20: =G17/G19 -> 3.4715207
B21: 18 | C21: 142 | D21: 38 | F21: Degrees of Freedom | G21: =G13-2 -> 98
B22: 19 | C22: 142 | D22: 48 | F22: Two-Sided p-value | G22: =TDIST(ABS(G20),G21,2) -> 0.00077140056
B23: 20 | C23: 144 | D23: 44 | F23: One-Sided p-value | G23: =TDIST(ABS(G20),G21,1) -> 0.00038570028
B24: 21 | C24: 145 | D24: 38 | F24: Confidence Level | G24: 0.99
B25: 22 | C25: 145 | D25: 44 | F25: t Critical Value | G25: =TINV(1-G24,G21) -> 2.6269311
B26: 23 | C26: 146 | D26: 40
B27: 24 | C27: 147 | D27: 39 | F27: Confidence Interval For Slope
B28: 25 | C28: 147 | D28: 41 | F28: Lower Limit | G28: =G17-G25*G19 -> 0.031091418
B29: 26 | C29: 148 | D29: 39 | F29: Upper Limit | G29: =G17+G25*G19 -> 0.224499
B30: 27 | C30: 148 | D30: 40
B31: 28 | C31: 148 | D31: 41 | F31: Enter x-value | G31: 140
B32: 29 | C32: 148 | D32: 42 | F32: Mean (x) | G32: =AVERAGE(C4:C128) -> 160.33
B33: 30 | C33: 148 | D33: 45 | F33: y | G33: =FORECAST(G31,D4:D128,C4:C128) -> 41.031923
B34: 31 | C34: 148 | D34: 46 | F34: SSx | G34: =DEVSQ(C4:C128) -> 36740.11
B35: 32 | C35: 149 | D35: 35 | F35: Standard Error Confidence Interval | G35: =G18*SQRT(1/G13+(G31-G32)^2/G34) -> 1.0285838
B36: 33 | C36: 150 | D36: 43 | F36: Standard Error Prediction Interval | G36: =G18*SQRT(1+1/G13+(G31-G32)^2/G34) -> 7.1306804
B37: 34 | C37: 151 | D37: 45
B38: 35 | C38: 152 | D38: 45 | F38: Confidence Interval for Given x
B39: 36 | C39: 152 | D39: 45 | F39: Lower Limit | G39: =G33-G25*G35 -> 38.329905
B40: 37 | C40: 152 | D40: 49 | F40: Upper Limit | G40: =G33+G25*G35 -> 43.733942
B41: 38 | C41: 153 | D41: 42
B42: 39 | C42: 153 | D42: 43 | F42: Prediction Interval for Given x
B43: 40 | C43: 153 | D43: 45 | F43: Lower Limit | G43: =G33-G25*G36 -> 22.300117
B44: 41 | C44: 154 | D44: 42 | F44: Upper Limit | G44: =G33+G25*G36 -> 59.76373
B45: 42 | C45: 155 | D45: 41
B46: 43 | C46: 155 | D46: 45
B47: 44 | C47: 158 | D47: 36
B48: 45 | C48: 158 | D48: 40
B49: 46 | C49: 158 | D49: 41
B50: 47 | C50: 160 | D50: 34
B51: 48 | C51: 160 | D51: 42
B52: 49 | C52: 160 | D52: 44
B53: 50 | C53: 160 | D53: 46
B54: 51 | C54: 161 | D54: 46
B55: 52 | C55: 162 | D55: 36
B56: 53 | C56: 162 | D56: 50
... B103: 100 | C103: 204 | D103: 36
B104: 101
B105: 102
B106: 103
B107: 104
B108: 105
B109: 106
B110: 107
B111: 108
B112: 109
B113: 110
B114: 111
B115: 112
... B128: 125

Sheet PI, CI from data
A1: Prediction Intervals and Confidence Intervals
A3: y-intercept | B3: ='Simple Linear Regression'!G5 -> 23.140594
A4: slope | B4: ='Simple Linear Regression'!G4 -> 0.12779521
A5: SSxx | B5: ='Simple Linear Regression'!G34 -> 36740.11
A6: Se | B6: ='Simple Linear Regression'!G18 -> 7.0561051
A7: n | B7: ='Simple Linear Regression'!G13 -> 100
A8: confidence | B8: 0.99 | C8: as decimal
A9: mean of x | B9: ='Simple Linear Regression'!G32 -> 160.33
A10: x value | B10: 140
A13: Confidence Interval for Given x
A14: Lower Limit | B14: =(B3+B4*B10)-TINV(1-B8,B7-2)*B6*SQRT(1/B7+((B10-B9)^2)/B5) -> 38.329905
A15: Upper Limit | B15: =(B3+B4*B10)+TINV(1-B8,B7-2)*B6*SQRT(1/B7+((B10-B9)^2)/B5) -> 43.733942
A17: Prediction Interval for Given x
A18: Lower Limit | B18: =(B3+B4*B10)-TINV(1-B8,B7-2)*B6*SQRT(1+1/B7+((B10-B9)^2)/B5) -> 22.300117
A19: Upper Limit | B19: =(B3+B4*B10)+TINV(1-B8,B7-2)*B6*SQRT(1+1/B7+((B10-B9)^2)/B5) -> 59.76373

Sheet Sheet1
A1: Independent (x) | B1: Dependent (y)
A2: 12 | B2: 125
A3: 19.3 | B3: 125
A4: 12.2 | B4: 127
A5: 15.5 | B5: 127
A6: 15.6 | B6: 127
A7: 20.6 | B7: 127
A8: 18.5 | B8: 127
A9: 15.2 | B9: 127
A10: 19.8 | B10: 130
A11: 16.1 | B11: 133
A12: 13.3 | B12: 135
A13: 18.1 | B13: 136
... A101: 12.1 | B101: 204
